BEGIN:VCALENDAR
VERSION:2.0
PRODID:-//Fitzroy Local - ECPv6.15.19//NONSGML v1.0//EN
CALSCALE:GREGORIAN
METHOD:PUBLISH
X-WR-CALNAME:Fitzroy Local
X-ORIGINAL-URL:https://fitzroylocal.com.au
X-WR-CALDESC:Events for Fitzroy Local
REFRESH-INTERVAL;VALUE=DURATION:PT1H
X-Robots-Tag:noindex
X-PUBLISHED-TTL:PT1H
BEGIN:VTIMEZONE
TZID:Australia/Melbourne
BEGIN:STANDARD
TZOFFSETFROM:+1100
TZOFFSETTO:+1000
TZNAME:AEST
DTSTART:20230401T160000
END:STANDARD
BEGIN:DAYLIGHT
TZOFFSETFROM:+1000
TZOFFSETTO:+1100
TZNAME:AEDT
DTSTART:20230930T160000
END:DAYLIGHT
BEGIN:STANDARD
TZOFFSETFROM:+1100
TZOFFSETTO:+1000
TZNAME:AEST
DTSTART:20240406T160000
END:STANDARD
BEGIN:DAYLIGHT
TZOFFSETFROM:+1000
TZOFFSETTO:+1100
TZNAME:AEDT
DTSTART:20241005T160000
END:DAYLIGHT
BEGIN:STANDARD
TZOFFSETFROM:+1100
TZOFFSETTO:+1000
TZNAME:AEST
DTSTART:20250405T160000
END:STANDARD
BEGIN:DAYLIGHT
TZOFFSETFROM:+1000
TZOFFSETTO:+1100
TZNAME:AEDT
DTSTART:20251004T160000
END:DAYLIGHT
END:VTIMEZONE
BEGIN:VEVENT
DTSTART;TZID=Australia/Melbourne:20241112T180000
DTEND;TZID=Australia/Melbourne:20241112T220000
DTSTAMP:20260422T092919
CREATED:20241104T023105Z
LAST-MODIFIED:20250307T035712Z
UID:6925-1731434400-1731448800@fitzroylocal.com.au
SUMMARY:The Rose Hotel - Burger Night
DESCRIPTION:Nothing beats a juicy burger\, and every Tuesday\, The Rose serves up its famous burgers at a great price. Whether you’re craving a classic beef\, crispy chicken\, or a delicious veggie option\, each burger comes with golden fries to complete the feast. \n🍔 Delicious Burgers – Choose from beef\, chicken\, or veggie options.🍟 Served with Fries – Enjoy crispy golden fries with every burger.💰 Great Value – All burgers for just $20. \n📅 Every Tuesday⏰ Time: Midday – Late \n🎟 All Burgers for $20 – No booking required\, just walk in and enjoy!🔗 More Info: The Rose Fitzroy \n🍔🔥 Tuesdays just got tastier—grab a burger and make it a weekly tradition!
URL:https://fitzroylocal.com.au/event/the-rose-hotel-burger-night-2/
LOCATION:The Rose Hotel\, 406 Napier Street\, Fitzroy\, Victoria\, 3065\, Australia
CATEGORIES:Burger Nights
END:VEVENT
BEGIN:VEVENT
DTSTART;TZID=Australia/Melbourne:20241119T180000
DTEND;TZID=Australia/Melbourne:20241119T220000
DTSTAMP:20260422T092919
CREATED:20241119T111800Z
LAST-MODIFIED:20241210T055024Z
UID:7521-1732039200-1732053600@fitzroylocal.com.au
SUMMARY:Royal Derby Hotel Tuesday Burger Night
DESCRIPTION:The Royal Derby Hotel is known for its inviting atmosphere and delicious weekly specials\, making it a local favourite for casual dining and good times. Every Tuesday\, you can enjoy a choice of a beef or chicken burger served with a side of chips for just $20. This deal offers a great way to unwind mid-week with a satisfying and hearty meal. \nHere another time? Check out Monday Wings Night\, Wednesday Steak Night\, Thursday Parma Night and Weekend Beer Jugs specials. For all the details on specials and events\, check the Royal Derby Hotel’s website. \n 
URL:https://fitzroylocal.com.au/event/royal-derby-hotel-tuesday-burger-night-2/
LOCATION:Royal Derby Hotel\, 446 Brunswick Street\, Fitzroy\, Victoria\, 3065\, Australia
CATEGORIES:Burger Nights
END:VEVENT
END:VCALENDAR