BEGIN:VCALENDAR
VERSION:2.0
PRODID:-//Fitzroy Local - ECPv6.15.19//NONSGML v1.0//EN
CALSCALE:GREGORIAN
METHOD:PUBLISH
X-ORIGINAL-URL:https://fitzroylocal.com.au
X-WR-CALDESC:Events for Fitzroy Local
REFRESH-INTERVAL;VALUE=DURATION:PT1H
X-Robots-Tag:noindex
X-PUBLISHED-TTL:PT1H
BEGIN:VTIMEZONE
TZID:Australia/Melbourne
BEGIN:STANDARD
TZOFFSETFROM:+1100
TZOFFSETTO:+1000
TZNAME:AEST
DTSTART:20230401T160000
END:STANDARD
BEGIN:DAYLIGHT
TZOFFSETFROM:+1000
TZOFFSETTO:+1100
TZNAME:AEDT
DTSTART:20230930T160000
END:DAYLIGHT
BEGIN:STANDARD
TZOFFSETFROM:+1100
TZOFFSETTO:+1000
TZNAME:AEST
DTSTART:20240406T160000
END:STANDARD
BEGIN:DAYLIGHT
TZOFFSETFROM:+1000
TZOFFSETTO:+1100
TZNAME:AEDT
DTSTART:20241005T160000
END:DAYLIGHT
BEGIN:STANDARD
TZOFFSETFROM:+1100
TZOFFSETTO:+1000
TZNAME:AEST
DTSTART:20250405T160000
END:STANDARD
BEGIN:DAYLIGHT
TZOFFSETFROM:+1000
TZOFFSETTO:+1100
TZNAME:AEDT
DTSTART:20251004T160000
END:DAYLIGHT
END:VTIMEZONE
BEGIN:VEVENT
DTSTART;TZID=Australia/Melbourne:20241113T180000
DTEND;TZID=Australia/Melbourne:20241113T233000
DTSTAMP:20260422T123247
CREATED:20241105T110534Z
LAST-MODIFIED:20241210T045325Z
UID:7005-1731520800-1731540600@fitzroylocal.com.au
SUMMARY:Lord Newry Hotel Wednesday Burger Night
DESCRIPTION:The Lord Newry Hotel is a charming\, classic pub located in North Fitzroy\, known for its relaxed\, friendly atmosphere and a commitment to quality pub fare. The venue offers a welcoming space with a traditional pub vibe\, featuring comfortable seating\, a range of local and international beers\, and a hearty menu that attracts locals and visitors alike. It’s a favourite spot for community gatherings\, casual dining\, and events in a relaxed setting. \nEvery Wednesday\, the Lord Newry hosts Burger Night\, featuring a delicious selection of burgers for just $18 each. Options include the signature Newry Burger\, Fried Chicken Burger and Lord’s Vegan Burger. \nHere another time? Check out the Friday Lunch Special or Tuesday Parma Night. All the details are available on the Lord Newry Hotel website. \n 
URL:https://fitzroylocal.com.au/event/lord-newry-hotel-wednesday-burger-night/
LOCATION:Lord Newry Hotel\, 543 Brunswick St\, Fitzroy North\, VIC\, 3068\, Australia
CATEGORIES:Burger Nights
END:VEVENT
END:VCALENDAR